BEGIN:VCALENDAR
VERSION:2.0
PRODID:-//The Apostolic Church International - ECPv6.14.2//NONSGML v1.0//EN
CALSCALE:GREGORIAN
METHOD:PUBLISH
X-WR-CALNAME:The Apostolic Church International
X-ORIGINAL-URL:http://theapostolicchurches.org
X-WR-CALDESC:Events for The Apostolic Church International
REFRESH-INTERVAL;VALUE=DURATION:PT1H
X-Robots-Tag:noindex
X-PUBLISHED-TTL:PT1H
BEGIN:VTIMEZONE
TZID:America/New_York
BEGIN:DAYLIGHT
TZOFFSETFROM:-0500
TZOFFSETTO:-0400
TZNAME:EDT
DTSTART:20230312T070000
END:DAYLIGHT
BEGIN:STANDARD
TZOFFSETFROM:-0400
TZOFFSETTO:-0500
TZNAME:EST
DTSTART:20231105T060000
END:STANDARD
END:VTIMEZONE
BEGIN:VEVENT
DTSTART;TZID=America/New_York:20231029T103000
DTEND;TZID=America/New_York:20231029T133000
DTSTAMP:20260419T175208
CREATED:20230111T124623Z
LAST-MODIFIED:20230111T124925Z
UID:24674-1698575400-1698586200@theapostolicchurches.org
SUMMARY:Area Superintendent’s Appreciation Service
DESCRIPTION:Area Superintendent’s Appreciation Service in all Locals
URL:http://theapostolicchurches.org/event/area-superintendents-appreciation-service/
CATEGORIES:Service
ATTACH;FMTTYPE=image/jpeg:http://theapostolicchurches.org/wp-content/uploads/2020/04/pastor-appreciation.jpeg
ORGANIZER;CN="Area Management":MAILTO:info@theapostolicchurch.org
END:VEVENT
BEGIN:VEVENT
DTSTART;TZID=America/New_York:20230827T103000
DTEND;TZID=America/New_York:20230827T133000
DTSTAMP:20260419T175208
CREATED:20200428T135330Z
LAST-MODIFIED:20230111T122946Z
UID:1206-1693132200-1693143000@theapostolicchurches.org
SUMMARY:Pastor’s Appreciation Service
DESCRIPTION:Pastor’s Appreciation Service in all Locals\n(Excluding the Area Superintendent’s)
URL:http://theapostolicchurches.org/event/pastors-appreciation-service/
CATEGORIES:Service
ATTACH;FMTTYPE=image/jpeg:http://theapostolicchurches.org/wp-content/uploads/2020/04/pastor-appreciation.jpeg
ORGANIZER;CN="Area Management":MAILTO:info@theapostolicchurch.org
END:VEVENT
BEGIN:VEVENT
DTSTART;TZID=America/New_York:20230702T100000
DTEND;TZID=America/New_York:20230702T133000
DTSTAMP:20260419T175208
CREATED:20230106T050101Z
LAST-MODIFIED:20230106T095136Z
UID:24558-1688292000-1688304600@theapostolicchurches.org
SUMMARY:Graduation Service in all locals
DESCRIPTION:Graduation Service in all locals (Baccalaureate Service)
URL:http://theapostolicchurches.org/event/graduation-service-in-all-locals/
CATEGORIES:Celebration,Service
ATTACH;FMTTYPE=image/jpeg:http://theapostolicchurches.org/wp-content/uploads/2023/01/graduation.jpg
ORGANIZER;CN="Area Management":MAILTO:info@theapostolicchurch.org
END:VEVENT
END:VCALENDAR