BEGIN:VCALENDAR
VERSION:2.0
PRODID:-//The Apostolic Church International - ECPv6.14.2//NONSGML v1.0//EN
CALSCALE:GREGORIAN
METHOD:PUBLISH
X-ORIGINAL-URL:http://theapostolicchurches.org
X-WR-CALDESC:Events for The Apostolic Church International
REFRESH-INTERVAL;VALUE=DURATION:PT1H
X-Robots-Tag:noindex
X-PUBLISHED-TTL:PT1H
BEGIN:VTIMEZONE
TZID:America/Denver
BEGIN:DAYLIGHT
TZOFFSETFROM:-0700
TZOFFSETTO:-0600
TZNAME:MDT
DTSTART:20230312T090000
END:DAYLIGHT
BEGIN:STANDARD
TZOFFSETFROM:-0600
TZOFFSETTO:-0700
TZNAME:MST
DTSTART:20231105T080000
END:STANDARD
END:VTIMEZONE
BEGIN:VTIMEZONE
TZID:America/New_York
BEGIN:DAYLIGHT
TZOFFSETFROM:-0500
TZOFFSETTO:-0400
TZNAME:EDT
DTSTART:20230312T070000
END:DAYLIGHT
BEGIN:STANDARD
TZOFFSETFROM:-0400
TZOFFSETTO:-0500
TZNAME:EST
DTSTART:20231105T060000
END:STANDARD
END:VTIMEZONE
BEGIN:VEVENT
DTSTART;TZID=America/Denver:20230423T100000
DTEND;TZID=America/Denver:20230423T133000
DTSTAMP:20260419T195317
CREATED:20230105T124612Z
LAST-MODIFIED:20230105T130706Z
UID:24533-1682244000-1682256600@theapostolicchurches.org
SUMMARY:Associate Pastor Dr. Aaron Apawu’s Welcome & Induction Service
DESCRIPTION:Associate Pastor Dr. Aaron Apawu’s Welcome & Induction Service in Colorado.
URL:http://theapostolicchurches.org/event/associate-pastor-dr-aaron-apawus-welcome-induction-service/
LOCATION:Colorado\, CO\, United States
CATEGORIES:Welcome & Induction Service
ATTACH;FMTTYPE=image/jpeg:http://theapostolicchurches.org/wp-content/uploads/2023/01/Welcome-Induction-Service-1.jpeg
ORGANIZER;CN="Area Management":MAILTO:info@theapostolicchurch.org
END:VEVENT
BEGIN:VEVENT
DTSTART;TZID=America/New_York:20230211T100000
DTEND;TZID=America/New_York:20230211T133000
DTSTAMP:20260419T195317
CREATED:20230101T140523Z
LAST-MODIFIED:20230105T123401Z
UID:1215-1676109600-1676122200@theapostolicchurches.org
SUMMARY:Associate Pastor Best Boafo’s Welcome & Induction Service
DESCRIPTION:Associate Pastor Best Boafo’s Welcome & Induction Service at Grace Assembly in New York
URL:http://theapostolicchurches.org/event/associate-pastor-best-boafos-welcome-induction-service/
LOCATION:Bronx Grace Assembly\, 976 Washington Ave\, Bronx\, 10456
CATEGORIES:Welcome & Induction Service
ATTACH;FMTTYPE=image/jpeg:http://theapostolicchurches.org/wp-content/uploads/2023/01/Welcome-Induction-Service.jpeg
ORGANIZER;CN="Area Management":MAILTO:info@theapostolicchurch.org
END:VEVENT
END:VCALENDAR